BEGIN:VCALENDAR
VERSION:2.0
PRODID:-//Skate N Fun Zone - ECPv6.15.17.1//NONSGML v1.0//EN
CALSCALE:GREGORIAN
METHOD:PUBLISH
X-WR-CALNAME:Skate N Fun Zone
X-ORIGINAL-URL:https://skatenfunzone.com
X-WR-CALDESC:Events for Skate N Fun Zone
REFRESH-INTERVAL;VALUE=DURATION:PT1H
X-Robots-Tag:noindex
X-PUBLISHED-TTL:PT1H
BEGIN:VTIMEZONE
TZID:America/New_York
BEGIN:DAYLIGHT
TZOFFSETFROM:-0500
TZOFFSETTO:-0400
TZNAME:EDT
DTSTART:20250309T070000
END:DAYLIGHT
BEGIN:STANDARD
TZOFFSETFROM:-0400
TZOFFSETTO:-0500
TZNAME:EST
DTSTART:20251102T060000
END:STANDARD
BEGIN:DAYLIGHT
TZOFFSETFROM:-0500
TZOFFSETTO:-0400
TZNAME:EDT
DTSTART:20260308T070000
END:DAYLIGHT
BEGIN:STANDARD
TZOFFSETFROM:-0400
TZOFFSETTO:-0500
TZNAME:EST
DTSTART:20261101T060000
END:STANDARD
BEGIN:DAYLIGHT
TZOFFSETFROM:-0500
TZOFFSETTO:-0400
TZNAME:EDT
DTSTART:20270314T070000
END:DAYLIGHT
BEGIN:STANDARD
TZOFFSETFROM:-0400
TZOFFSETTO:-0500
TZNAME:EST
DTSTART:20271107T060000
END:STANDARD
END:VTIMEZONE
BEGIN:VEVENT
DTSTART;TZID=America/New_York:20260305T170000
DTEND;TZID=America/New_York:20260305T180000
DTSTAMP:20260423T183314
CREATED:20260206T141248Z
LAST-MODIFIED:20260206T144945Z
UID:10008983-1772730000-1772733600@skatenfunzone.com
SUMMARY:Adult & Super Skater Test Center
DESCRIPTION:The following is a test for those enrolled in Adult Classes and will also serve as a Make-up Super Skater Test.
URL:https://skatenfunzone.com/event/adult-super-skater-test/
LOCATION:Skate N’ Fun Zone\, 7878 Sudley Rd\, Manassas\, VA\, 20109\, United States
CATEGORIES:Classes
END:VEVENT
BEGIN:VEVENT
DTSTART;TZID=America/New_York:20260306T130000
DTEND;TZID=America/New_York:20260306T150000
DTSTAMP:20260423T183314
CREATED:20251117T221824Z
LAST-MODIFIED:20251117T221825Z
UID:10008470-1772802000-1772809200@skatenfunzone.com
SUMMARY:Home School Skate
DESCRIPTION:Get your PE cred every Friday afternoon! This session is open to everyone!\nBuy Tickets
URL:https://skatenfunzone.com/event/home-school-skate-2-3/2026-03-06/
LOCATION:Skate N’ Fun Zone\, 7878 Sudley Rd\, Manassas\, VA\, 20109\, United States
CATEGORIES:Sessions
END:VEVENT
BEGIN:VEVENT
DTSTART;TZID=America/New_York:20260307T080000
DTEND;TZID=America/New_York:20260307T090000
DTSTAMP:20260423T183314
CREATED:20260206T140612Z
LAST-MODIFIED:20260206T140612Z
UID:10008982-1772870400-1772874000@skatenfunzone.com
SUMMARY:RSA/Super Skater Test Center
DESCRIPTION:We will be holding a Test Center for Classes and the RSA Achievement Test Program. If you are in classes and wish to move up\, we will be testing in this class. Also\, anyone working on the Achievement Test in Freestyle or Dance from our classes can be tested as well.
URL:https://skatenfunzone.com/event/rsa-super-skater-test-center/
LOCATION:Skate N’ Fun Zone\, 7878 Sudley Rd\, Manassas\, VA\, 20109\, United States
CATEGORIES:Classes
END:VEVENT
BEGIN:VEVENT
DTSTART;TZID=America/New_York:20260307T103000
DTEND;TZID=America/New_York:20260307T110000
DTSTAMP:20260423T183314
CREATED:20240726T200250Z
LAST-MODIFIED:20260117T120536Z
UID:10008953-1772879400-1772881200@skatenfunzone.com
SUMMARY:Super Skater Class
DESCRIPTION:Learn basic roller skating techniques. Skaters learn different skills with a mix of fun games and skating exercises. Classes range from Beginner to Bronze (advance level). Beginner Classes Begin at 10:30 AM. Please be ready 15 minutes before. \n*Includes FREE subsequent public session from 11:00am to 10PM & Skate Rental.\nRegister Now
URL:https://skatenfunzone.com/event/super-skater-class-4/2026-03-07/
LOCATION:Skate N’ Fun Zone\, 7878 Sudley Rd\, Manassas\, VA\, 20109\, United States
CATEGORIES:Classes,Super Skater Classes
ATTACH;FMTTYPE=image/jpeg:https://skatenfunzone.com/wp-content/uploads/2024/03/Super-Skater-Class-es-scaled.jpg
END:VEVENT
BEGIN:VEVENT
DTSTART;TZID=America/New_York:20260307T110000
DTEND;TZID=America/New_York:20260307T220000
DTSTAMP:20260423T183314
CREATED:20250517T163914Z
LAST-MODIFIED:20250801T220709Z
UID:10004012-1772881200-1772920800@skatenfunzone.com
SUMMARY:Mega Skate
DESCRIPTION:Join us every Saturday for the longest session of the week\, our Mega Skate! No breaks throughout the day\, just a fun-filled day of skating.\nBuy Tickets
URL:https://skatenfunzone.com/event/mega-skate-2-2/2026-03-07/
LOCATION:Skate N’ Fun Zone\, 7878 Sudley Rd\, Manassas\, VA\, 20109\, United States
CATEGORIES:Sessions
ATTACH;FMTTYPE=image/jpeg:https://skatenfunzone.com/wp-content/uploads/2023/07/Mega-Skate-Sign-1-scaled.jpg
END:VEVENT
BEGIN:VEVENT
DTSTART;TZID=America/New_York:20260309T093000
DTEND;TZID=America/New_York:20260309T100000
DTSTAMP:20260423T183314
CREATED:20250601T232101Z
LAST-MODIFIED:20250801T221723Z
UID:10008211-1773048600-1773050400@skatenfunzone.com
SUMMARY:Tot Class
DESCRIPTION:Skaters will learn basic roller skating techniques including forward skating\, basic safety skills and skating exercises. The class is for children learning to skate. This class is for ages 6 and under. Please come 15 minutes before class to allow time to put skates on. \n*Includes FREE subsequent public session on Monday from 10AM to 12PM & Skate Rental \nPurchase Tickets
URL:https://skatenfunzone.com/event/tot-class/2026-03-09/
LOCATION:Skate N’ Fun Zone\, 7878 Sudley Rd\, Manassas\, VA\, 20109\, United States
CATEGORIES:Classes,Tot Classes
END:VEVENT
BEGIN:VEVENT
DTSTART;TZID=America/New_York:20260309T150000
DTEND;TZID=America/New_York:20260309T180000
DTSTAMP:20260423T183314
CREATED:20250905T201740Z
LAST-MODIFIED:20250905T201741Z
UID:10008397-1773068400-1773079200@skatenfunzone.com
SUMMARY:After School Skate
DESCRIPTION:Join us after school starting at 3pm and stay all the way into our Monday Mania which ends at 9pm.
URL:https://skatenfunzone.com/event/afterschool-skate-3/2026-03-09/
LOCATION:Skate N’ Fun Zone\, 7878 Sudley Rd\, Manassas\, VA\, 20109\, United States
CATEGORIES:Sessions
END:VEVENT
BEGIN:VEVENT
DTSTART;TZID=America/New_York:20260311T180000
DTEND;TZID=America/New_York:20260311T210000
DTSTAMP:20260423T183314
CREATED:20250521T201728Z
LAST-MODIFIED:20250801T221404Z
UID:10007140-1773252000-1773262800@skatenfunzone.com
SUMMARY:Wacky Wednesdays
DESCRIPTION:Wacky Wednesdays is a great deal! Pizza\, soda\, 4 tokens and admission for only $7!!!!\nBuy Tickets
URL:https://skatenfunzone.com/event/ultimate-wednesday-2-2-2-3-4/2026-03-11/
LOCATION:Skate N’ Fun Zone\, 7878 Sudley Rd\, Manassas\, VA\, 20109\, United States
CATEGORIES:Sessions
ATTACH;FMTTYPE=image/jpeg:https://skatenfunzone.com/wp-content/uploads/2025/01/WACKY-WEDNESDAY.jpg
END:VEVENT
BEGIN:VEVENT
DTSTART;TZID=America/New_York:20260402T170000
DTEND;TZID=America/New_York:20260402T180000
DTSTAMP:20260423T183314
CREATED:20260208T200630Z
LAST-MODIFIED:20260208T200630Z
UID:10008988-1775149200-1775152800@skatenfunzone.com
SUMMARY:Adult & Super Skater Test Center
DESCRIPTION:The following is a test for those enrolled in Adult Classes and will also serve as a Make-up Super Skater Test.
URL:https://skatenfunzone.com/event/adult-super-skater-test-center/
LOCATION:Skate N’ Fun Zone\, 7878 Sudley Rd\, Manassas\, VA\, 20109\, United States
CATEGORIES:Classes
END:VEVENT
BEGIN:VEVENT
DTSTART;TZID=America/New_York:20260404T080000
DTEND;TZID=America/New_York:20260404T090000
DTSTAMP:20260423T183314
CREATED:20260208T200602Z
LAST-MODIFIED:20260208T200602Z
UID:10008987-1775289600-1775293200@skatenfunzone.com
SUMMARY:RSA/Super Skater Test Center
DESCRIPTION:We will be holding a Test Center for Classes and the RSA Achievement Test Program. If you are in classes and wish to move up\, we will be testing in this class. Also\, anyone working on the Achievement Test in Freestyle or Dance from our classes can be tested as well.
URL:https://skatenfunzone.com/event/rsa-super-skater-test-center-2/
LOCATION:Skate N’ Fun Zone\, 7878 Sudley Rd\, Manassas\, VA\, 20109\, United States
CATEGORIES:Classes
END:VEVENT
BEGIN:VEVENT
DTSTART;TZID=America/New_York:20260405T120000
DTEND;TZID=America/New_York:20260405T170000
DTSTAMP:20260423T183314
CREATED:20260405T172920Z
LAST-MODIFIED:20260405T174717Z
UID:10009054-1775390400-1775408400@skatenfunzone.com
SUMMARY:Easter Sunday Funday Skate
DESCRIPTION:Come join us for Easter with a day of fun at skating\, music and fun!!! Basket raffle\, Easter Bunny and Gifts from the Easter Bunny.
URL:https://skatenfunzone.com/event/sunday-funday-skate/
LOCATION:Skate N’ Fun Zone\, 7878 Sudley Rd\, Manassas\, VA\, 20109\, United States
CATEGORIES:Sessions
ATTACH;FMTTYPE=image/jpeg:https://skatenfunzone.com/wp-content/uploads/2026/03/EASTER-SKATE-scaled.jpg
END:VEVENT
BEGIN:VEVENT
DTSTART;TZID=America/New_York:20260405T200000
DTEND;TZID=America/New_York:20260405T223000
DTSTAMP:20260423T183314
CREATED:20260405T173052Z
LAST-MODIFIED:20260405T175806Z
UID:10009055-1775419200-1775428200@skatenfunzone.com
SUMMARY:Old School Adult Skate (18 & older)
DESCRIPTION:Adult Skate playing old school music from the 70’s\, 80’s\, 90’s and early 2000’s. You must be 18 and older to attend.
URL:https://skatenfunzone.com/event/sunday-adult-skate-18-older/2026-04-05/
LOCATION:Skate N’ Fun Zone\, 7878 Sudley Rd\, Manassas\, VA\, 20109\, United States
CATEGORIES:Sessions
END:VEVENT
BEGIN:VEVENT
DTSTART;TZID=America/New_York:20260406T100000
DTEND;TZID=America/New_York:20260406T120000
DTSTAMP:20260423T183314
CREATED:20260405T173720Z
LAST-MODIFIED:20260405T173750Z
UID:10009056-1775469600-1775476800@skatenfunzone.com
SUMMARY:Breakfast with the Easter Bunny
DESCRIPTION:Come join us for breakfast\, skating\, bouncy house and a meet and greet with the Easter Bunny.
URL:https://skatenfunzone.com/event/breakfast-with-the-easter-bunny/
LOCATION:Skate N’ Fun Zone\, 7878 Sudley Rd\, Manassas\, VA\, 20109\, United States
CATEGORIES:Sessions,Special
ATTACH;FMTTYPE=image/jpeg:https://skatenfunzone.com/wp-content/uploads/2026/03/BREAKFAST-WITH-the-Easter-Bunny-4-scaled.jpg
END:VEVENT
BEGIN:VEVENT
DTSTART;TZID=America/New_York:20260406T180000
DTEND;TZID=America/New_York:20260406T210000
DTSTAMP:20260423T183314
CREATED:20260405T183250Z
LAST-MODIFIED:20260405T183309Z
UID:10010621-1775498400-1775509200@skatenfunzone.com
SUMMARY:Monday Mania
DESCRIPTION:
URL:https://skatenfunzone.com/event/monday-mania/2026-04-06/
LOCATION:Skate N’ Fun Zone\, 7878 Sudley Rd\, Manassas\, VA\, 20109\, United States
CATEGORIES:Sessions
END:VEVENT
BEGIN:VEVENT
DTSTART;TZID=America/New_York:20260409T190000
DTEND;TZID=America/New_York:20260409T193000
DTSTAMP:20260423T183314
CREATED:20260405T180205Z
LAST-MODIFIED:20260405T180225Z
UID:10009318-1775761200-1775763000@skatenfunzone.com
SUMMARY:Adult Skate Classes
DESCRIPTION:Come learn to skate\, we have advance classes earlier in the day. Beginner and level 1 classes are at 7PM.
URL:https://skatenfunzone.com/event/adult-skate-classes/2026-04-09/
LOCATION:Skate N’ Fun Zone\, 7878 Sudley Rd\, Manassas\, VA\, 20109\, United States
CATEGORIES:Adult Classes,Classes
END:VEVENT
BEGIN:VEVENT
DTSTART;TZID=America/New_York:20260409T193000
DTEND;TZID=America/New_York:20260409T220000
DTSTAMP:20260423T183314
CREATED:20260405T175100Z
LAST-MODIFIED:20260405T180258Z
UID:10009057-1775763000-1775772000@skatenfunzone.com
SUMMARY:Adult Night Skate (18 and older)
DESCRIPTION:Come to our adult skate you must be 18 and older!
URL:https://skatenfunzone.com/event/adult-night-skate-18-and-older/2026-04-09/
LOCATION:Skate N’ Fun Zone\, 7878 Sudley Rd\, Manassas\, VA\, 20109\, United States
CATEGORIES:Sessions
END:VEVENT
BEGIN:VEVENT
DTSTART;TZID=America/New_York:20260410T170000
DTEND;TZID=America/New_York:20260410T220000
DTSTAMP:20260423T183314
CREATED:20260405T182949Z
LAST-MODIFIED:20260405T183019Z
UID:10009839-1775840400-1775858400@skatenfunzone.com
SUMMARY:Kids Skate Free Bring a Friend Friday Family Skate
DESCRIPTION:
URL:https://skatenfunzone.com/event/friday-family-skate-2/
LOCATION:Skate N’ Fun Zone\, 7878 Sudley Rd\, Manassas\, VA\, 20109\, United States
CATEGORIES:Sessions,Special
ATTACH;FMTTYPE=image/jpeg:https://skatenfunzone.com/wp-content/uploads/2024/06/KSF-Bring-a-Friend-Skate-Mario-letter-size-1-scaled.jpg
END:VEVENT
BEGIN:VEVENT
DTSTART;TZID=America/New_York:20260411T103000
DTEND;TZID=America/New_York:20260411T110000
DTSTAMP:20260423T183314
CREATED:20260405T182304Z
LAST-MODIFIED:20260405T182617Z
UID:10010100-1775903400-1775905200@skatenfunzone.com
SUMMARY:Classes (All Ages)
DESCRIPTION:
URL:https://skatenfunzone.com/event/classes-all-ages/2026-04-11/
LOCATION:Skate N’ Fun Zone\, 7878 Sudley Rd\, Manassas\, VA\, 20109\, United States
CATEGORIES:Classes,Super Skater Classes
END:VEVENT
BEGIN:VEVENT
DTSTART;TZID=America/New_York:20260412T120000
DTEND;TZID=America/New_York:20260412T170000
DTSTAMP:20260423T183314
CREATED:20260405T182739Z
LAST-MODIFIED:20260405T182809Z
UID:10010361-1775995200-1776013200@skatenfunzone.com
SUMMARY:Sunday Funday Skate
DESCRIPTION:This session is for all ages.
URL:https://skatenfunzone.com/event/sunday-funday-skate-2/2026-04-12/
LOCATION:Skate N’ Fun Zone\, 7878 Sudley Rd\, Manassas\, VA\, 20109\, United States
CATEGORIES:Sessions
END:VEVENT
BEGIN:VEVENT
DTSTART;TZID=America/New_York:20260414T183000
DTEND;TZID=America/New_York:20260414T203000
DTSTAMP:20260423T183314
CREATED:20260414T203447Z
LAST-MODIFIED:20260414T203520Z
UID:10010894-1776191400-1776198600@skatenfunzone.com
SUMMARY:Mullen Elementary Spirit Night
DESCRIPTION:Come support your school. It is $11\, you get a slice pizza\, 16oz soda\, skate rental\, admission. For every paid admission\, your school will get $5 towards your PTO/PTA.
URL:https://skatenfunzone.com/event/mullen-elementary-spirit-night/
LOCATION:Skate N’ Fun Zone\, 7878 Sudley Rd\, Manassas\, VA\, 20109\, United States
CATEGORIES:Spirit Night
END:VEVENT
BEGIN:VEVENT
DTSTART;TZID=America/New_York:20260427T100000
DTEND;TZID=America/New_York:20260427T120000
DTSTAMP:20260423T183314
CREATED:20260422T205852Z
LAST-MODIFIED:20260422T205852Z
UID:10010908-1777284000-1777291200@skatenfunzone.com
SUMMARY:Tot Skate (Ages 6 & Under)
DESCRIPTION:
URL:https://skatenfunzone.com/event/tot-skate-ages-6-under/2026-04-27/
LOCATION:Skate N’ Fun Zone\, 7878 Sudley Rd\, Manassas\, VA\, 20109\, United States
CATEGORIES:Sessions
END:VEVENT
BEGIN:VEVENT
DTSTART;TZID=America/New_York:20260527T120000
DTEND;TZID=America/New_York:20260527T180000
DTSTAMP:20260423T183314
CREATED:20260422T210416Z
LAST-MODIFIED:20260422T210526Z
UID:10011169-1779883200-1779904800@skatenfunzone.com
SUMMARY:School's Out Sk8
DESCRIPTION:
URL:https://skatenfunzone.com/event/schools-out-sk8/
LOCATION:Skate N’ Fun Zone\, 7878 Sudley Rd\, Manassas\, VA\, 20109\, United States
CATEGORIES:Sessions,Special
ATTACH;FMTTYPE=image/jpeg:https://skatenfunzone.com/wp-content/uploads/2025/09/Memorial-Day-Skate-1-1-scaled.jpg
END:VEVENT
END:VCALENDAR