BEGIN:VCALENDAR
VERSION:2.0
PRODID:-//Skate N Fun Zone - ECPv6.15.17.1//NONSGML v1.0//EN
CALSCALE:GREGORIAN
METHOD:PUBLISH
X-WR-CALNAME:Skate N Fun Zone
X-ORIGINAL-URL:https://skatenfunzone.com
X-WR-CALDESC:Events for Skate N Fun Zone
REFRESH-INTERVAL;VALUE=DURATION:PT1H
X-Robots-Tag:noindex
X-PUBLISHED-TTL:PT1H
BEGIN:VTIMEZONE
TZID:America/New_York
BEGIN:DAYLIGHT
TZOFFSETFROM:-0500
TZOFFSETTO:-0400
TZNAME:EDT
DTSTART:20270314T070000
END:DAYLIGHT
BEGIN:STANDARD
TZOFFSETFROM:-0400
TZOFFSETTO:-0500
TZNAME:EST
DTSTART:20271107T060000
END:STANDARD
BEGIN:DAYLIGHT
TZOFFSETFROM:-0500
TZOFFSETTO:-0400
TZNAME:EDT
DTSTART:20280312T070000
END:DAYLIGHT
BEGIN:STANDARD
TZOFFSETFROM:-0400
TZOFFSETTO:-0500
TZNAME:EST
DTSTART:20281105T060000
END:STANDARD
BEGIN:DAYLIGHT
TZOFFSETFROM:-0500
TZOFFSETTO:-0400
TZNAME:EDT
DTSTART:20290311T070000
END:DAYLIGHT
BEGIN:STANDARD
TZOFFSETFROM:-0400
TZOFFSETTO:-0500
TZNAME:EST
DTSTART:20291104T060000
END:STANDARD
END:VTIMEZONE
BEGIN:VEVENT
DTSTART;TZID=America/New_York:20280406T190000
DTEND;TZID=America/New_York:20280406T193000
DTSTAMP:20260425T115943
CREATED:20260405T180205Z
LAST-MODIFIED:20260405T180225Z
UID:10009422-1838660400-1838662200@skatenfunzone.com
SUMMARY:Adult Skate Classes
DESCRIPTION:Come learn to skate\, we have advance classes earlier in the day. Beginner and level 1 classes are at 7PM.
URL:https://skatenfunzone.com/event/adult-skate-classes/2028-04-06/
LOCATION:Skate N’ Fun Zone\, 7878 Sudley Rd\, Manassas\, VA\, 20109\, United States
CATEGORIES:Adult Classes,Classes
END:VEVENT
BEGIN:VEVENT
DTSTART;TZID=America/New_York:20280406T193000
DTEND;TZID=America/New_York:20280406T220000
DTSTAMP:20260425T115943
CREATED:20260405T175100Z
LAST-MODIFIED:20260405T180258Z
UID:10009682-1838662200-1838671200@skatenfunzone.com
SUMMARY:Adult Night Skate (18 and older)
DESCRIPTION:Come to our adult skate you must be 18 and older!
URL:https://skatenfunzone.com/event/adult-night-skate-18-and-older/2028-04-06/
LOCATION:Skate N’ Fun Zone\, 7878 Sudley Rd\, Manassas\, VA\, 20109\, United States
CATEGORIES:Sessions
END:VEVENT
BEGIN:VEVENT
DTSTART;TZID=America/New_York:20280407T130000
DTEND;TZID=America/New_York:20280407T150000
DTSTAMP:20260425T115943
CREATED:20251117T221824Z
LAST-MODIFIED:20251117T221825Z
UID:10008579-1838725200-1838732400@skatenfunzone.com
SUMMARY:Home School Skate
DESCRIPTION:Get your PE cred every Friday afternoon! This session is open to everyone!\nBuy Tickets
URL:https://skatenfunzone.com/event/home-school-skate-2-3/2028-04-07/
LOCATION:Skate N’ Fun Zone\, 7878 Sudley Rd\, Manassas\, VA\, 20109\, United States
CATEGORIES:Sessions
END:VEVENT
BEGIN:VEVENT
DTSTART;TZID=America/New_York:20280407T170000
DTEND;TZID=America/New_York:20280407T220000
DTSTAMP:20260425T115943
CREATED:20260405T180950Z
LAST-MODIFIED:20260405T181706Z
UID:10009943-1838739600-1838757600@skatenfunzone.com
SUMMARY:Friday Family Skate
DESCRIPTION:
URL:https://skatenfunzone.com/event/friday-family-skate/2028-04-07/
LOCATION:Skate N’ Fun Zone\, 7878 Sudley Rd\, Manassas\, VA\, 20109\, United States
CATEGORIES:Sessions
END:VEVENT
BEGIN:VEVENT
DTSTART;TZID=America/New_York:20280408T103000
DTEND;TZID=America/New_York:20280408T110000
DTSTAMP:20260425T115943
CREATED:20260405T182304Z
LAST-MODIFIED:20260405T182617Z
UID:10010204-1838802600-1838804400@skatenfunzone.com
SUMMARY:Classes (All Ages)
DESCRIPTION:
URL:https://skatenfunzone.com/event/classes-all-ages/2028-04-08/
LOCATION:Skate N’ Fun Zone\, 7878 Sudley Rd\, Manassas\, VA\, 20109\, United States
CATEGORIES:Classes,Super Skater Classes
END:VEVENT
BEGIN:VEVENT
DTSTART;TZID=America/New_York:20280408T110000
DTEND;TZID=America/New_York:20280408T220000
DTSTAMP:20260425T115943
CREATED:20250517T163914Z
LAST-MODIFIED:20250801T220709Z
UID:10004121-1838804400-1838844000@skatenfunzone.com
SUMMARY:Mega Skate
DESCRIPTION:Join us every Saturday for the longest session of the week\, our Mega Skate! No breaks throughout the day\, just a fun-filled day of skating.\nBuy Tickets
URL:https://skatenfunzone.com/event/mega-skate-2-2/2028-04-08/
LOCATION:Skate N’ Fun Zone\, 7878 Sudley Rd\, Manassas\, VA\, 20109\, United States
CATEGORIES:Sessions
ATTACH;FMTTYPE=image/jpeg:https://skatenfunzone.com/wp-content/uploads/2023/07/Mega-Skate-Sign-1-scaled.jpg
END:VEVENT
BEGIN:VEVENT
DTSTART;TZID=America/New_York:20280409T120000
DTEND;TZID=America/New_York:20280409T170000
DTSTAMP:20260425T115943
CREATED:20260405T182739Z
LAST-MODIFIED:20260405T182809Z
UID:10010465-1838894400-1838912400@skatenfunzone.com
SUMMARY:Sunday Funday Skate
DESCRIPTION:This session is for all ages.
URL:https://skatenfunzone.com/event/sunday-funday-skate-2/2028-04-09/
LOCATION:Skate N’ Fun Zone\, 7878 Sudley Rd\, Manassas\, VA\, 20109\, United States
CATEGORIES:Sessions
END:VEVENT
BEGIN:VEVENT
DTSTART;TZID=America/New_York:20280409T200000
DTEND;TZID=America/New_York:20280409T223000
DTSTAMP:20260425T115943
CREATED:20260405T173052Z
LAST-MODIFIED:20260405T175806Z
UID:10009162-1838923200-1838932200@skatenfunzone.com
SUMMARY:Old School Adult Skate (18 & older)
DESCRIPTION:Adult Skate playing old school music from the 70’s\, 80’s\, 90’s and early 2000’s. You must be 18 and older to attend.
URL:https://skatenfunzone.com/event/sunday-adult-skate-18-older/2028-04-09/
LOCATION:Skate N’ Fun Zone\, 7878 Sudley Rd\, Manassas\, VA\, 20109\, United States
CATEGORIES:Sessions
END:VEVENT
BEGIN:VEVENT
DTSTART;TZID=America/New_York:20280410T100000
DTEND;TZID=America/New_York:20280410T120000
DTSTAMP:20260425T115943
CREATED:20260422T205852Z
LAST-MODIFIED:20260422T205852Z
UID:10011010-1838973600-1838980800@skatenfunzone.com
SUMMARY:Tot Skate (Ages 6 & Under)
DESCRIPTION:
URL:https://skatenfunzone.com/event/tot-skate-ages-6-under/2028-04-10/
LOCATION:Skate N’ Fun Zone\, 7878 Sudley Rd\, Manassas\, VA\, 20109\, United States
CATEGORIES:Sessions
END:VEVENT
BEGIN:VEVENT
DTSTART;TZID=America/New_York:20280410T180000
DTEND;TZID=America/New_York:20280410T210000
DTSTAMP:20260425T115943
CREATED:20260405T183250Z
LAST-MODIFIED:20260405T183309Z
UID:10010726-1839002400-1839013200@skatenfunzone.com
SUMMARY:Monday Mania
DESCRIPTION:
URL:https://skatenfunzone.com/event/monday-mania/2028-04-10/
LOCATION:Skate N’ Fun Zone\, 7878 Sudley Rd\, Manassas\, VA\, 20109\, United States
CATEGORIES:Sessions
END:VEVENT
BEGIN:VEVENT
DTSTART;TZID=America/New_York:20280412T180000
DTEND;TZID=America/New_York:20280412T210000
DTSTAMP:20260425T115943
CREATED:20250521T201728Z
LAST-MODIFIED:20250801T221404Z
UID:10007249-1839175200-1839186000@skatenfunzone.com
SUMMARY:Wacky Wednesdays
DESCRIPTION:Wacky Wednesdays is a great deal! Pizza\, soda\, 4 tokens and admission for only $7!!!!\nBuy Tickets
URL:https://skatenfunzone.com/event/ultimate-wednesday-2-2-2-3-4/2028-04-12/
LOCATION:Skate N’ Fun Zone\, 7878 Sudley Rd\, Manassas\, VA\, 20109\, United States
CATEGORIES:Sessions
ATTACH;FMTTYPE=image/jpeg:https://skatenfunzone.com/wp-content/uploads/2025/01/WACKY-WEDNESDAY.jpg
END:VEVENT
END:VCALENDAR