BEGIN:VCALENDAR
VERSION:2.0
PRODID:-//Skate N Fun Zone - ECPv6.15.17.1//NONSGML v1.0//EN
CALSCALE:GREGORIAN
METHOD:PUBLISH
X-WR-CALNAME:Skate N Fun Zone
X-ORIGINAL-URL:https://skatenfunzone.com
X-WR-CALDESC:Events for Skate N Fun Zone
REFRESH-INTERVAL;VALUE=DURATION:PT1H
X-Robots-Tag:noindex
X-PUBLISHED-TTL:PT1H
BEGIN:VTIMEZONE
TZID:America/New_York
BEGIN:DAYLIGHT
TZOFFSETFROM:-0500
TZOFFSETTO:-0400
TZNAME:EDT
DTSTART:20250309T070000
END:DAYLIGHT
BEGIN:STANDARD
TZOFFSETFROM:-0400
TZOFFSETTO:-0500
TZNAME:EST
DTSTART:20251102T060000
END:STANDARD
BEGIN:DAYLIGHT
TZOFFSETFROM:-0500
TZOFFSETTO:-0400
TZNAME:EDT
DTSTART:20260308T070000
END:DAYLIGHT
BEGIN:STANDARD
TZOFFSETFROM:-0400
TZOFFSETTO:-0500
TZNAME:EST
DTSTART:20261101T060000
END:STANDARD
BEGIN:DAYLIGHT
TZOFFSETFROM:-0500
TZOFFSETTO:-0400
TZNAME:EDT
DTSTART:20270314T070000
END:DAYLIGHT
BEGIN:STANDARD
TZOFFSETFROM:-0400
TZOFFSETTO:-0500
TZNAME:EST
DTSTART:20271107T060000
END:STANDARD
END:VTIMEZONE
BEGIN:VEVENT
DTSTART;TZID=America/New_York:20260525T120000
DTEND;TZID=America/New_York:20260525T180000
DTSTAMP:20260423T171024
CREATED:20260422T210233Z
LAST-MODIFIED:20260422T210608Z
UID:10008408-1779710400-1779732000@skatenfunzone.com
SUMMARY:Memorial Day Skate
DESCRIPTION:Join us at 12pm and stay all the way into our Monday Mania which ends at 9pm.
URL:https://skatenfunzone.com/event/afterschool-skate-3-2/
LOCATION:Skate N’ Fun Zone\, 7878 Sudley Rd\, Manassas\, VA\, 20109\, United States
CATEGORIES:Sessions,Special
ATTACH;FMTTYPE=image/jpeg:https://skatenfunzone.com/wp-content/uploads/2025/09/Memorial-Day-Skate-1-1-scaled.jpg
END:VEVENT
BEGIN:VEVENT
DTSTART;TZID=America/New_York:20260525T180000
DTEND;TZID=America/New_York:20260525T210000
DTSTAMP:20260423T171024
CREATED:20260405T183250Z
LAST-MODIFIED:20260405T183309Z
UID:10010628-1779732000-1779742800@skatenfunzone.com
SUMMARY:Monday Mania
DESCRIPTION:
URL:https://skatenfunzone.com/event/monday-mania/2026-05-25/
LOCATION:Skate N’ Fun Zone\, 7878 Sudley Rd\, Manassas\, VA\, 20109\, United States
CATEGORIES:Sessions
END:VEVENT
BEGIN:VEVENT
DTSTART;TZID=America/New_York:20260527T120000
DTEND;TZID=America/New_York:20260527T180000
DTSTAMP:20260423T171024
CREATED:20260422T210416Z
LAST-MODIFIED:20260422T210526Z
UID:10011169-1779883200-1779904800@skatenfunzone.com
SUMMARY:School's Out Sk8
DESCRIPTION:
URL:https://skatenfunzone.com/event/schools-out-sk8/
LOCATION:Skate N’ Fun Zone\, 7878 Sudley Rd\, Manassas\, VA\, 20109\, United States
CATEGORIES:Sessions,Special
ATTACH;FMTTYPE=image/jpeg:https://skatenfunzone.com/wp-content/uploads/2025/09/Memorial-Day-Skate-1-1-scaled.jpg
END:VEVENT
BEGIN:VEVENT
DTSTART;TZID=America/New_York:20260527T180000
DTEND;TZID=America/New_York:20260527T210000
DTSTAMP:20260423T171024
CREATED:20250521T201728Z
LAST-MODIFIED:20250801T221404Z
UID:10007151-1779904800-1779915600@skatenfunzone.com
SUMMARY:Wacky Wednesdays
DESCRIPTION:Wacky Wednesdays is a great deal! Pizza\, soda\, 4 tokens and admission for only $7!!!!\nBuy Tickets
URL:https://skatenfunzone.com/event/ultimate-wednesday-2-2-2-3-4/2026-05-27/
LOCATION:Skate N’ Fun Zone\, 7878 Sudley Rd\, Manassas\, VA\, 20109\, United States
CATEGORIES:Sessions
ATTACH;FMTTYPE=image/jpeg:https://skatenfunzone.com/wp-content/uploads/2025/01/WACKY-WEDNESDAY.jpg
END:VEVENT
END:VCALENDAR