BEGIN:VCALENDAR
VERSION:2.0
PRODID:-//Skate N Fun Zone - ECPv6.15.17.1//NONSGML v1.0//EN
CALSCALE:GREGORIAN
METHOD:PUBLISH
X-WR-CALNAME:Skate N Fun Zone
X-ORIGINAL-URL:https://skatenfunzone.com
X-WR-CALDESC:Events for Skate N Fun Zone
REFRESH-INTERVAL;VALUE=DURATION:PT1H
X-Robots-Tag:noindex
X-PUBLISHED-TTL:PT1H
BEGIN:VTIMEZONE
TZID:America/New_York
BEGIN:DAYLIGHT
TZOFFSETFROM:-0500
TZOFFSETTO:-0400
TZNAME:EDT
DTSTART:20250309T070000
END:DAYLIGHT
BEGIN:STANDARD
TZOFFSETFROM:-0400
TZOFFSETTO:-0500
TZNAME:EST
DTSTART:20251102T060000
END:STANDARD
BEGIN:DAYLIGHT
TZOFFSETFROM:-0500
TZOFFSETTO:-0400
TZNAME:EDT
DTSTART:20260308T070000
END:DAYLIGHT
BEGIN:STANDARD
TZOFFSETFROM:-0400
TZOFFSETTO:-0500
TZNAME:EST
DTSTART:20261101T060000
END:STANDARD
BEGIN:DAYLIGHT
TZOFFSETFROM:-0500
TZOFFSETTO:-0400
TZNAME:EDT
DTSTART:20270314T070000
END:DAYLIGHT
BEGIN:STANDARD
TZOFFSETFROM:-0400
TZOFFSETTO:-0500
TZNAME:EST
DTSTART:20271107T060000
END:STANDARD
END:VTIMEZONE
BEGIN:VEVENT
DTSTART;TZID=America/New_York:20260427T100000
DTEND;TZID=America/New_York:20260427T120000
DTSTAMP:20260422T200817
CREATED:20260422T205852Z
LAST-MODIFIED:20260422T205852Z
UID:10010908-1777284000-1777291200@skatenfunzone.com
SUMMARY:Tot Skate (Ages 6 & Under)
DESCRIPTION:
URL:https://skatenfunzone.com/event/tot-skate-ages-6-under/2026-04-27/
LOCATION:Skate N’ Fun Zone\, 7878 Sudley Rd\, Manassas\, VA\, 20109\, United States
CATEGORIES:Sessions
END:VEVENT
BEGIN:VEVENT
DTSTART;TZID=America/New_York:20260504T100000
DTEND;TZID=America/New_York:20260504T120000
DTSTAMP:20260422T200817
CREATED:20260422T205852Z
LAST-MODIFIED:20260422T205852Z
UID:10010909-1777888800-1777896000@skatenfunzone.com
SUMMARY:Tot Skate (Ages 6 & Under)
DESCRIPTION:
URL:https://skatenfunzone.com/event/tot-skate-ages-6-under/2026-05-04/
LOCATION:Skate N’ Fun Zone\, 7878 Sudley Rd\, Manassas\, VA\, 20109\, United States
CATEGORIES:Sessions
END:VEVENT
BEGIN:VEVENT
DTSTART;TZID=America/New_York:20260511T100000
DTEND;TZID=America/New_York:20260511T120000
DTSTAMP:20260422T200817
CREATED:20260422T205852Z
LAST-MODIFIED:20260422T205852Z
UID:10010910-1778493600-1778500800@skatenfunzone.com
SUMMARY:Tot Skate (Ages 6 & Under)
DESCRIPTION:
URL:https://skatenfunzone.com/event/tot-skate-ages-6-under/2026-05-11/
LOCATION:Skate N’ Fun Zone\, 7878 Sudley Rd\, Manassas\, VA\, 20109\, United States
CATEGORIES:Sessions
END:VEVENT
BEGIN:VEVENT
DTSTART;TZID=America/New_York:20260518T100000
DTEND;TZID=America/New_York:20260518T120000
DTSTAMP:20260422T200817
CREATED:20260422T205852Z
LAST-MODIFIED:20260422T205852Z
UID:10010911-1779098400-1779105600@skatenfunzone.com
SUMMARY:Tot Skate (Ages 6 & Under)
DESCRIPTION:
URL:https://skatenfunzone.com/event/tot-skate-ages-6-under/2026-05-18/
LOCATION:Skate N’ Fun Zone\, 7878 Sudley Rd\, Manassas\, VA\, 20109\, United States
CATEGORIES:Sessions
END:VEVENT
BEGIN:VEVENT
DTSTART;TZID=America/New_York:20260525T100000
DTEND;TZID=America/New_York:20260525T120000
DTSTAMP:20260422T200817
CREATED:20260422T210051Z
LAST-MODIFIED:20260422T210053Z
UID:10010912-1779703200-1779710400@skatenfunzone.com
SUMMARY:Breakfast with Bluey
DESCRIPTION:
URL:https://skatenfunzone.com/event/tot-skate-ages-6-under-2/
LOCATION:Skate N’ Fun Zone\, 7878 Sudley Rd\, Manassas\, VA\, 20109\, United States
CATEGORIES:Sessions
ATTACH;FMTTYPE=image/jpeg:https://skatenfunzone.com/wp-content/uploads/2026/04/BLUEY-scaled.jpg
END:VEVENT
BEGIN:VEVENT
DTSTART;TZID=America/New_York:20260601T100000
DTEND;TZID=America/New_York:20260601T120000
DTSTAMP:20260422T200817
CREATED:20260422T205852Z
LAST-MODIFIED:20260422T205852Z
UID:10010913-1780308000-1780315200@skatenfunzone.com
SUMMARY:Tot Skate (Ages 6 & Under)
DESCRIPTION:
URL:https://skatenfunzone.com/event/tot-skate-ages-6-under/2026-06-01/
LOCATION:Skate N’ Fun Zone\, 7878 Sudley Rd\, Manassas\, VA\, 20109\, United States
CATEGORIES:Sessions
END:VEVENT
BEGIN:VEVENT
DTSTART;TZID=America/New_York:20260608T100000
DTEND;TZID=America/New_York:20260608T120000
DTSTAMP:20260422T200817
CREATED:20260422T205852Z
LAST-MODIFIED:20260422T205852Z
UID:10010914-1780912800-1780920000@skatenfunzone.com
SUMMARY:Tot Skate (Ages 6 & Under)
DESCRIPTION:
URL:https://skatenfunzone.com/event/tot-skate-ages-6-under/2026-06-08/
LOCATION:Skate N’ Fun Zone\, 7878 Sudley Rd\, Manassas\, VA\, 20109\, United States
CATEGORIES:Sessions
END:VEVENT
BEGIN:VEVENT
DTSTART;TZID=America/New_York:20260615T100000
DTEND;TZID=America/New_York:20260615T120000
DTSTAMP:20260422T200817
CREATED:20260422T205852Z
LAST-MODIFIED:20260422T205852Z
UID:10010915-1781517600-1781524800@skatenfunzone.com
SUMMARY:Tot Skate (Ages 6 & Under)
DESCRIPTION:
URL:https://skatenfunzone.com/event/tot-skate-ages-6-under/2026-06-15/
LOCATION:Skate N’ Fun Zone\, 7878 Sudley Rd\, Manassas\, VA\, 20109\, United States
CATEGORIES:Sessions
END:VEVENT
BEGIN:VEVENT
DTSTART;TZID=America/New_York:20260622T100000
DTEND;TZID=America/New_York:20260622T120000
DTSTAMP:20260422T200817
CREATED:20260422T205852Z
LAST-MODIFIED:20260422T205852Z
UID:10010916-1782122400-1782129600@skatenfunzone.com
SUMMARY:Tot Skate (Ages 6 & Under)
DESCRIPTION:
URL:https://skatenfunzone.com/event/tot-skate-ages-6-under/2026-06-22/
LOCATION:Skate N’ Fun Zone\, 7878 Sudley Rd\, Manassas\, VA\, 20109\, United States
CATEGORIES:Sessions
END:VEVENT
BEGIN:VEVENT
DTSTART;TZID=America/New_York:20260629T100000
DTEND;TZID=America/New_York:20260629T120000
DTSTAMP:20260422T200817
CREATED:20260422T205852Z
LAST-MODIFIED:20260422T205852Z
UID:10010917-1782727200-1782734400@skatenfunzone.com
SUMMARY:Tot Skate (Ages 6 & Under)
DESCRIPTION:
URL:https://skatenfunzone.com/event/tot-skate-ages-6-under/2026-06-29/
LOCATION:Skate N’ Fun Zone\, 7878 Sudley Rd\, Manassas\, VA\, 20109\, United States
CATEGORIES:Sessions
END:VEVENT
BEGIN:VEVENT
DTSTART;TZID=America/New_York:20260706T100000
DTEND;TZID=America/New_York:20260706T120000
DTSTAMP:20260422T200817
CREATED:20260422T205852Z
LAST-MODIFIED:20260422T205852Z
UID:10010918-1783332000-1783339200@skatenfunzone.com
SUMMARY:Tot Skate (Ages 6 & Under)
DESCRIPTION:
URL:https://skatenfunzone.com/event/tot-skate-ages-6-under/2026-07-06/
LOCATION:Skate N’ Fun Zone\, 7878 Sudley Rd\, Manassas\, VA\, 20109\, United States
CATEGORIES:Sessions
END:VEVENT
BEGIN:VEVENT
DTSTART;TZID=America/New_York:20260713T100000
DTEND;TZID=America/New_York:20260713T120000
DTSTAMP:20260422T200817
CREATED:20260422T205852Z
LAST-MODIFIED:20260422T205852Z
UID:10010919-1783936800-1783944000@skatenfunzone.com
SUMMARY:Tot Skate (Ages 6 & Under)
DESCRIPTION:
URL:https://skatenfunzone.com/event/tot-skate-ages-6-under/2026-07-13/
LOCATION:Skate N’ Fun Zone\, 7878 Sudley Rd\, Manassas\, VA\, 20109\, United States
CATEGORIES:Sessions
END:VEVENT
BEGIN:VEVENT
DTSTART;TZID=America/New_York:20260720T100000
DTEND;TZID=America/New_York:20260720T120000
DTSTAMP:20260422T200817
CREATED:20260422T205852Z
LAST-MODIFIED:20260422T205852Z
UID:10010920-1784541600-1784548800@skatenfunzone.com
SUMMARY:Tot Skate (Ages 6 & Under)
DESCRIPTION:
URL:https://skatenfunzone.com/event/tot-skate-ages-6-under/2026-07-20/
LOCATION:Skate N’ Fun Zone\, 7878 Sudley Rd\, Manassas\, VA\, 20109\, United States
CATEGORIES:Sessions
END:VEVENT
BEGIN:VEVENT
DTSTART;TZID=America/New_York:20260727T100000
DTEND;TZID=America/New_York:20260727T120000
DTSTAMP:20260422T200817
CREATED:20260422T205852Z
LAST-MODIFIED:20260422T205852Z
UID:10010921-1785146400-1785153600@skatenfunzone.com
SUMMARY:Tot Skate (Ages 6 & Under)
DESCRIPTION:
URL:https://skatenfunzone.com/event/tot-skate-ages-6-under/2026-07-27/
LOCATION:Skate N’ Fun Zone\, 7878 Sudley Rd\, Manassas\, VA\, 20109\, United States
CATEGORIES:Sessions
END:VEVENT
BEGIN:VEVENT
DTSTART;TZID=America/New_York:20260803T100000
DTEND;TZID=America/New_York:20260803T120000
DTSTAMP:20260422T200817
CREATED:20260422T205852Z
LAST-MODIFIED:20260422T205852Z
UID:10010922-1785751200-1785758400@skatenfunzone.com
SUMMARY:Tot Skate (Ages 6 & Under)
DESCRIPTION:
URL:https://skatenfunzone.com/event/tot-skate-ages-6-under/2026-08-03/
LOCATION:Skate N’ Fun Zone\, 7878 Sudley Rd\, Manassas\, VA\, 20109\, United States
CATEGORIES:Sessions
END:VEVENT
BEGIN:VEVENT
DTSTART;TZID=America/New_York:20260810T100000
DTEND;TZID=America/New_York:20260810T120000
DTSTAMP:20260422T200817
CREATED:20260422T205852Z
LAST-MODIFIED:20260422T205852Z
UID:10010923-1786356000-1786363200@skatenfunzone.com
SUMMARY:Tot Skate (Ages 6 & Under)
DESCRIPTION:
URL:https://skatenfunzone.com/event/tot-skate-ages-6-under/2026-08-10/
LOCATION:Skate N’ Fun Zone\, 7878 Sudley Rd\, Manassas\, VA\, 20109\, United States
CATEGORIES:Sessions
END:VEVENT
BEGIN:VEVENT
DTSTART;TZID=America/New_York:20260817T100000
DTEND;TZID=America/New_York:20260817T120000
DTSTAMP:20260422T200817
CREATED:20260422T205852Z
LAST-MODIFIED:20260422T205852Z
UID:10010924-1786960800-1786968000@skatenfunzone.com
SUMMARY:Tot Skate (Ages 6 & Under)
DESCRIPTION:
URL:https://skatenfunzone.com/event/tot-skate-ages-6-under/2026-08-17/
LOCATION:Skate N’ Fun Zone\, 7878 Sudley Rd\, Manassas\, VA\, 20109\, United States
CATEGORIES:Sessions
END:VEVENT
BEGIN:VEVENT
DTSTART;TZID=America/New_York:20260824T100000
DTEND;TZID=America/New_York:20260824T120000
DTSTAMP:20260422T200817
CREATED:20260422T205852Z
LAST-MODIFIED:20260422T205852Z
UID:10010925-1787565600-1787572800@skatenfunzone.com
SUMMARY:Tot Skate (Ages 6 & Under)
DESCRIPTION:
URL:https://skatenfunzone.com/event/tot-skate-ages-6-under/2026-08-24/
LOCATION:Skate N’ Fun Zone\, 7878 Sudley Rd\, Manassas\, VA\, 20109\, United States
CATEGORIES:Sessions
END:VEVENT
BEGIN:VEVENT
DTSTART;TZID=America/New_York:20260831T100000
DTEND;TZID=America/New_York:20260831T120000
DTSTAMP:20260422T200817
CREATED:20260422T205852Z
LAST-MODIFIED:20260422T205852Z
UID:10010926-1788170400-1788177600@skatenfunzone.com
SUMMARY:Tot Skate (Ages 6 & Under)
DESCRIPTION:
URL:https://skatenfunzone.com/event/tot-skate-ages-6-under/2026-08-31/
LOCATION:Skate N’ Fun Zone\, 7878 Sudley Rd\, Manassas\, VA\, 20109\, United States
CATEGORIES:Sessions
END:VEVENT
BEGIN:VEVENT
DTSTART;TZID=America/New_York:20260907T100000
DTEND;TZID=America/New_York:20260907T120000
DTSTAMP:20260422T200817
CREATED:20260422T205852Z
LAST-MODIFIED:20260422T205852Z
UID:10010927-1788775200-1788782400@skatenfunzone.com
SUMMARY:Tot Skate (Ages 6 & Under)
DESCRIPTION:
URL:https://skatenfunzone.com/event/tot-skate-ages-6-under/2026-09-07/
LOCATION:Skate N’ Fun Zone\, 7878 Sudley Rd\, Manassas\, VA\, 20109\, United States
CATEGORIES:Sessions
END:VEVENT
BEGIN:VEVENT
DTSTART;TZID=America/New_York:20260914T100000
DTEND;TZID=America/New_York:20260914T120000
DTSTAMP:20260422T200817
CREATED:20260422T205852Z
LAST-MODIFIED:20260422T205852Z
UID:10010928-1789380000-1789387200@skatenfunzone.com
SUMMARY:Tot Skate (Ages 6 & Under)
DESCRIPTION:
URL:https://skatenfunzone.com/event/tot-skate-ages-6-under/2026-09-14/
LOCATION:Skate N’ Fun Zone\, 7878 Sudley Rd\, Manassas\, VA\, 20109\, United States
CATEGORIES:Sessions
END:VEVENT
BEGIN:VEVENT
DTSTART;TZID=America/New_York:20260921T100000
DTEND;TZID=America/New_York:20260921T120000
DTSTAMP:20260422T200817
CREATED:20260422T205852Z
LAST-MODIFIED:20260422T205852Z
UID:10010929-1789984800-1789992000@skatenfunzone.com
SUMMARY:Tot Skate (Ages 6 & Under)
DESCRIPTION:
URL:https://skatenfunzone.com/event/tot-skate-ages-6-under/2026-09-21/
LOCATION:Skate N’ Fun Zone\, 7878 Sudley Rd\, Manassas\, VA\, 20109\, United States
CATEGORIES:Sessions
END:VEVENT
BEGIN:VEVENT
DTSTART;TZID=America/New_York:20260928T100000
DTEND;TZID=America/New_York:20260928T120000
DTSTAMP:20260422T200817
CREATED:20260422T205852Z
LAST-MODIFIED:20260422T205852Z
UID:10010930-1790589600-1790596800@skatenfunzone.com
SUMMARY:Tot Skate (Ages 6 & Under)
DESCRIPTION:
URL:https://skatenfunzone.com/event/tot-skate-ages-6-under/2026-09-28/
LOCATION:Skate N’ Fun Zone\, 7878 Sudley Rd\, Manassas\, VA\, 20109\, United States
CATEGORIES:Sessions
END:VEVENT
BEGIN:VEVENT
DTSTART;TZID=America/New_York:20261005T100000
DTEND;TZID=America/New_York:20261005T120000
DTSTAMP:20260422T200817
CREATED:20260422T205852Z
LAST-MODIFIED:20260422T205852Z
UID:10010931-1791194400-1791201600@skatenfunzone.com
SUMMARY:Tot Skate (Ages 6 & Under)
DESCRIPTION:
URL:https://skatenfunzone.com/event/tot-skate-ages-6-under/2026-10-05/
LOCATION:Skate N’ Fun Zone\, 7878 Sudley Rd\, Manassas\, VA\, 20109\, United States
CATEGORIES:Sessions
END:VEVENT
BEGIN:VEVENT
DTSTART;TZID=America/New_York:20261012T100000
DTEND;TZID=America/New_York:20261012T120000
DTSTAMP:20260422T200817
CREATED:20260422T205852Z
LAST-MODIFIED:20260422T205852Z
UID:10010932-1791799200-1791806400@skatenfunzone.com
SUMMARY:Tot Skate (Ages 6 & Under)
DESCRIPTION:
URL:https://skatenfunzone.com/event/tot-skate-ages-6-under/2026-10-12/
LOCATION:Skate N’ Fun Zone\, 7878 Sudley Rd\, Manassas\, VA\, 20109\, United States
CATEGORIES:Sessions
END:VEVENT
BEGIN:VEVENT
DTSTART;TZID=America/New_York:20261019T100000
DTEND;TZID=America/New_York:20261019T120000
DTSTAMP:20260422T200817
CREATED:20260422T205852Z
LAST-MODIFIED:20260422T205852Z
UID:10010933-1792404000-1792411200@skatenfunzone.com
SUMMARY:Tot Skate (Ages 6 & Under)
DESCRIPTION:
URL:https://skatenfunzone.com/event/tot-skate-ages-6-under/2026-10-19/
LOCATION:Skate N’ Fun Zone\, 7878 Sudley Rd\, Manassas\, VA\, 20109\, United States
CATEGORIES:Sessions
END:VEVENT
BEGIN:VEVENT
DTSTART;TZID=America/New_York:20261026T100000
DTEND;TZID=America/New_York:20261026T120000
DTSTAMP:20260422T200817
CREATED:20260422T205852Z
LAST-MODIFIED:20260422T205852Z
UID:10010934-1793008800-1793016000@skatenfunzone.com
SUMMARY:Tot Skate (Ages 6 & Under)
DESCRIPTION:
URL:https://skatenfunzone.com/event/tot-skate-ages-6-under/2026-10-26/
LOCATION:Skate N’ Fun Zone\, 7878 Sudley Rd\, Manassas\, VA\, 20109\, United States
CATEGORIES:Sessions
END:VEVENT
BEGIN:VEVENT
DTSTART;TZID=America/New_York:20261102T100000
DTEND;TZID=America/New_York:20261102T120000
DTSTAMP:20260422T200817
CREATED:20260422T205852Z
LAST-MODIFIED:20260422T205852Z
UID:10010935-1793613600-1793620800@skatenfunzone.com
SUMMARY:Tot Skate (Ages 6 & Under)
DESCRIPTION:
URL:https://skatenfunzone.com/event/tot-skate-ages-6-under/2026-11-02/
LOCATION:Skate N’ Fun Zone\, 7878 Sudley Rd\, Manassas\, VA\, 20109\, United States
CATEGORIES:Sessions
END:VEVENT
BEGIN:VEVENT
DTSTART;TZID=America/New_York:20261109T100000
DTEND;TZID=America/New_York:20261109T120000
DTSTAMP:20260422T200817
CREATED:20260422T205852Z
LAST-MODIFIED:20260422T205852Z
UID:10010936-1794218400-1794225600@skatenfunzone.com
SUMMARY:Tot Skate (Ages 6 & Under)
DESCRIPTION:
URL:https://skatenfunzone.com/event/tot-skate-ages-6-under/2026-11-09/
LOCATION:Skate N’ Fun Zone\, 7878 Sudley Rd\, Manassas\, VA\, 20109\, United States
CATEGORIES:Sessions
END:VEVENT
BEGIN:VEVENT
DTSTART;TZID=America/New_York:20261116T100000
DTEND;TZID=America/New_York:20261116T120000
DTSTAMP:20260422T200817
CREATED:20260422T205852Z
LAST-MODIFIED:20260422T205852Z
UID:10010937-1794823200-1794830400@skatenfunzone.com
SUMMARY:Tot Skate (Ages 6 & Under)
DESCRIPTION:
URL:https://skatenfunzone.com/event/tot-skate-ages-6-under/2026-11-16/
LOCATION:Skate N’ Fun Zone\, 7878 Sudley Rd\, Manassas\, VA\, 20109\, United States
CATEGORIES:Sessions
END:VEVENT
END:VCALENDAR